BEGIN:VCALENDAR
VERSION:2.0
PRODID:-//Siedem Aniołów - ECPv5.15.0.1//NONSGML v1.0//EN
CALSCALE:GREGORIAN
METHOD:PUBLISH
X-WR-CALNAME:Siedem Aniołów
X-ORIGINAL-URL:https://www.siedemaniolow.pl
X-WR-CALDESC:Wydarzenia dla Siedem Aniołów
REFRESH-INTERVAL;VALUE=DURATION:PT1H
X-Robots-Tag:noindex
X-PUBLISHED-TTL:PT1H
BEGIN:VTIMEZONE
TZID:UTC
BEGIN:STANDARD
TZOFFSETFROM:+0000
TZOFFSETTO:+0000
TZNAME:UTC
DTSTART:20220101T000000
END:STANDARD
END:VTIMEZONE
BEGIN:VEVENT
DTSTART;TZID=UTC:20220121T160000
DTEND;TZID=UTC:20220123T130000
DTSTAMP:20260424T233139
CREATED:20211115T191202Z
LAST-MODIFIED:20220105T175450Z
UID:5506-1642780800-1642942800@www.siedemaniolow.pl
SUMMARY:Rekolekcje zimowe 2022
DESCRIPTION:Spotkanie rekolekcyjne z noclegiem\, warsztatami i wspólnymi posiłkami.\nZe względu na niewielką powierzchnię ośrodka\, w którym się spotykamy – mamy ograniczoną liczbę miejsc.
URL:https://www.siedemaniolow.pl/spotkanie/rekolekcje-zimowe-2022/
LOCATION:Kacze Bagno – Miejsce Inicjatyw Pozytywnych\, Kacze Bagno 4\, 13-306 Kurzętnik\, (warmińsko-mazurskie)
CATEGORIES:Siedem Aniołów 2022
ATTACH;FMTTYPE=image/jpeg:https://www.siedemaniolow.pl/wp-content/uploads/2016/05/243429022_10225954591152451_2068644822828119897_n.jpg
ORGANIZER;CN="Zarz%C4%85d%20Stowarzyszenia":MAILTO:siedemaniolow@gmail.com
END:VEVENT
END:VCALENDAR