BEGIN:VCALENDAR
VERSION:2.0
PRODID:-//Siedem Aniołów - ECPv5.15.0.1//NONSGML v1.0//EN
CALSCALE:GREGORIAN
METHOD:PUBLISH
X-WR-CALNAME:Siedem Aniołów
X-ORIGINAL-URL:https://www.siedemaniolow.pl
X-WR-CALDESC:Wydarzenia dla Siedem Aniołów
REFRESH-INTERVAL;VALUE=DURATION:PT1H
X-Robots-Tag:noindex
X-PUBLISHED-TTL:PT1H
BEGIN:VTIMEZONE
TZID:UTC
BEGIN:STANDARD
TZOFFSETFROM:+0000
TZOFFSETTO:+0000
TZNAME:UTC
DTSTART:20220101T000000
END:STANDARD
END:VTIMEZONE
BEGIN:VEVENT
DTSTART;TZID=UTC:20220219T163000
DTEND;TZID=UTC:20220219T200000
DTSTAMP:20260424T220740
CREATED:20220206T125920Z
LAST-MODIFIED:20220217T125604Z
UID:11055-1645288200-1645300800@www.siedemaniolow.pl
SUMMARY:Spotkanie Siedmiu Aniołów we Wrocławiu
DESCRIPTION:Msza\, jedzonko i narada nad tegorocznymi działaniami Aniołów i dzieci uchodźców z Czeczenii i Afganistanu (temat: do granic możliwości – co możemy zrobić dla Aniołów Czeczenów i Afgańczyków). \nGdzie się spotykamy:\nOd 16:30 w Siemacha Spot w centrum handlowym Magnolia Park.\n(Siemacha Spot to w skrócie taka Wędka tylko z konkretnym sponsorem gdzie odbywają się zajęcia pozalekcyjne dla dzieci zagrożonych wykluczeniem. Znajduje się na pierwszym piętrze centrum zaraz obok sekcji restauracyjnej przy Decathlonie!) \nDokładny adres to Legnicka 58\, 54-204 Wrocław. Najlepiej jest zaparkować przy wejściu nr 4 (koło Decathlonu) i wjechać windą przy wejściu do Centrum Medycznego Magnolia Park. \nW razie problemów dzwonić tu: 794059341
URL:https://www.siedemaniolow.pl/spotkanie/spotkanie-siedmiu-aniolow-we-wroclawiu-2022/
LOCATION:Siemacha Spot we Wrocławiu\, Legnicka 58\, 54-204 Wrocław\, (dolnośląskie)
CATEGORIES:Siedem Aniołów 2022
ATTACH;FMTTYPE=image/jpeg:https://www.siedemaniolow.pl/wp-content/uploads/2016/05/243429022_10225954591152451_2068644822828119897_n.jpg
END:VEVENT
END:VCALENDAR