BEGIN:VCALENDAR
VERSION:2.0
PRODID:-//Siedem Aniołów - ECPv5.15.0.1//NONSGML v1.0//EN
CALSCALE:GREGORIAN
METHOD:PUBLISH
X-WR-CALNAME:Siedem Aniołów
X-ORIGINAL-URL:https://www.siedemaniolow.pl
X-WR-CALDESC:Wydarzenia dla Siedem Aniołów
REFRESH-INTERVAL;VALUE=DURATION:PT1H
X-Robots-Tag:noindex
X-PUBLISHED-TTL:PT1H
BEGIN:VTIMEZONE
TZID:UTC
BEGIN:STANDARD
TZOFFSETFROM:+0000
TZOFFSETTO:+0000
TZNAME:UTC
DTSTART:20220101T000000
END:STANDARD
END:VTIMEZONE
BEGIN:VEVENT
DTSTART;TZID=UTC:20220815T160000
DTEND;TZID=UTC:20220820T130000
DTSTAMP:20260424T122748
CREATED:20211115T195632Z
LAST-MODIFIED:20220814T122422Z
UID:5529-1660579200-1661000400@www.siedemaniolow.pl
SUMMARY:Wędrówka 2022
DESCRIPTION:Co trzeba zabrać: \n– UMOWA O WOLONTARIAT\n– ZGODA NA UDZIAŁ\n– kubek\n– talerzyk\n– sztućce\n– śpiwór\n– karimata\n– ręcznik\n– kosmetyki\n– luźne ubrania przeznaczone do prób\n– nakrycie głowy\n– czarne ubrania i buty na spektakl\n– kolorowe ubrania do wędrowania\n– coś przeciwdeszczowego\n– cieplejsze ubrania\n– butelka na wodę \nNocowanie w szkole: zabieramy śpiwory i karimaty.\nZgłoszenia proszę kierować do Brata Cordiana.\nBędzie międzykulturowo: Polska – Czeczenia – Ukraina. \n  \nPlan działań na 9. anielską edycję: \n15 sierpnia (poniedziałek) – NOWE MIASTO LUBAWSKIE\n14:00 zapisy\n16:00 Animacja – Mateusz Dybka\n18:00 Msza Święta\n19:30 Koncert – Cukier\n21:00 Agapa \n16 sierpnia (wtorek) – NOWE MIASTO LUBAWSKIE\n8:30 Gimnastyka – taniec z flagami\n9:00 jutrznia – odprawa – śniadanie\n10:00 Msza Święta\n11:00 Warsztaty – tworzenie spektaklu\n13:30 Obiad i leżakowanie\n15:00 Koronka i warsztaty\n18:00 Kolacja\n19:00 Warsztaty\n21:30 Tańce ludowe \n17 sierpnia (środa) – NOWE MIASTO LUBAWSKIE\n8:30 Gimnastyka – taniec z flagami\n9:00 jutrznia – odprawa – śniadanie\n10:00 Msza Święta\n11:00 Warsztaty – tworzenie spektaklu\n13:30 Obiad i leżakowanie\n15:00 Koronka i warsztaty 18:00 Kolacja\n19:00 Warsztaty\n20:00 Koncert – BONOBOCO\n21:30 Warsztaty \n18 sierpnia (czwartek) – KURZĘTNIK\n8:30 Gimnastyka – taniec z flagami\n9:00 jutrznia – odprawa – śniadanie\n10:00 Warsztaty – tworzenie spektaklu\n11:00 Tabor Anielski – wędrówka do Kurzętnika\n13:30 Obiad i leżakowanie\n15:00 Koronka i warsztaty\n17:00 Msza\n19:00 Kolacja\n20:00 Koncert – SENDERS\n21:00 spektakle STARZYNO I ANTHONY STREET \n19 sierpnia (piątek) – KURZĘTNIK\n8:30 Gimnastyka – taniec z flagami\n9:00 jutrznia – odprawa – śniadanie\n10:00 Warsztaty – tworzenie spektaklu\n11:00 Tabor Anielski – wędrówka do Kurzętnika\n13:30 Obiad i leżakowanie\n15:00 Koronka i warsztaty\n18:00 Msza\n19:00 Kolacja\n20:00 Koncert – DIKANDA\n21:00 spektakl Do GRANIC \n20 sierpnia (sobota) – NOWE MIASTO LUBAWSKIE\n8:30 Gimnastyka – taniec z flagami\n9:00 jutrznia – odprawa – śniadanie\n10:45 Msza Święta\n11:00 Podsumowanie\n13:30 Obiad i leżakowanie 15:00 sprzątanie\nWYJAZD \n\nWędrówka 2022 “Do granic możliwości” to wakacyjne spotkanie\, podczas którego odbędą się warsztaty dla ok. 80 osób – dzieci z domów dziecka\, świetlic środowiskowych z woj. pomorskiego\, woj. wielkopolskiego (i innych – jeśli wyrażą chęć uczestnictwa)\, grup wolontariackich\, wspólnot\, które brały udział we wcześniejszych działaniach Stowarzyszenia\, młodych osób przebywających w Ośrodku dla Uchodźców w Lininie oraz dzieci i młodzieży z Ukrainy. Zakładamy wspólne podejmowanie działań w dniach 15-20.08.2022. Pierwszego dnia (15.08.2022) odbędzie się integracja\, zapoznanie uczestników\, przedstawienie planowanych działań oraz koncert Cukra\, który wykonuje chrześcijański rap. W dniach warsztatowych (16-19.08.2022) planujemy konferencje\, warsztaty artystyczne\, rękodzielnicze\, kuglarskie oraz warsztaty teatralne z Mary Sadowską-Łakomy. Działania te będą wspierane przez osoby przygotowane merytorycznie\, psychologów\, pedagogów. Zakończeniem powyższych działań będzie wspólny spektakl\, który powstanie podczas warsztatów. W piątek (19.08) oprócz wystawienia powstałego spektaklu\, planujemy koncert zespołu Dikanda\, w ich w całości akustycznym repertuarze słychać inspirację kulturą Bliskiego Wschodu\, Orientu\, folklorem bałkańskim. Spektakl oraz koncert będą wydarzeniem otwartym\, zaprosimy mieszkańców okolicznych wsi i miasteczek. Wszystkie działania będziemy starali się podejmować z troską o aspekt ekologiczny. Organizator zapewnia wyżywienie oraz nocleg uczestnikom wydarzenia\, specjalistom i warsztatowcom.
URL:https://www.siedemaniolow.pl/spotkanie/wedrowka-2022/
LOCATION:Szkoła Podstawowa nr 1 im. Jana Pawła II w Nowym Mieście Lubawskim\, ul. Jagiellońska 3\, 13-300 Nowe Miasto Lubawskie\, (warmińsko-mazurskie)
CATEGORIES:Siedem Aniołów 2022
ATTACH;FMTTYPE=image/jpeg:https://www.siedemaniolow.pl/wp-content/uploads/2021/11/296939728_1885068068509492_64701777425780605_n.jpg
ORGANIZER;CN="Zarz%C4%85d%20Stowarzyszenia":MAILTO:siedemaniolow@gmail.com
END:VEVENT
END:VCALENDAR