BEGIN:VCALENDAR
VERSION:2.0
PRODID:-//Siedem Aniołów - ECPv5.15.0.1//NONSGML v1.0//EN
CALSCALE:GREGORIAN
METHOD:PUBLISH
X-WR-CALNAME:Siedem Aniołów
X-ORIGINAL-URL:https://www.siedemaniolow.pl
X-WR-CALDESC:Wydarzenia dla Siedem Aniołów
REFRESH-INTERVAL;VALUE=DURATION:PT1H
X-Robots-Tag:noindex
X-PUBLISHED-TTL:PT1H
BEGIN:VTIMEZONE
TZID:UTC
BEGIN:STANDARD
TZOFFSETFROM:+0000
TZOFFSETTO:+0000
TZNAME:UTC
DTSTART:20230101T000000
END:STANDARD
END:VTIMEZONE
BEGIN:VEVENT
DTSTART;TZID=UTC:20230821T160000
DTEND;TZID=UTC:20230825T130000
DTSTAMP:20260423T175402
CREATED:20230325T110135Z
LAST-MODIFIED:20230325T112523Z
UID:11493-1692633600-1692968400@www.siedemaniolow.pl
SUMMARY:Wędrówka 2023
DESCRIPTION:Zgłoszenia proszę kierować do Brata Cordiana.
URL:https://www.siedemaniolow.pl/spotkanie/wedrowka-2023/
LOCATION:Jeziorany koło Olsztyna\, 11‑320 Jeziorany\, (warmińsko-mazurskie)
CATEGORIES:Siedem Aniołów 2023
ATTACH;FMTTYPE=image/jpeg:https://www.siedemaniolow.pl/wp-content/uploads/2021/08/Wedrowka-2021-dzien-5_fot.-Patryk-Olczyk-180.jpg
ORGANIZER;CN="Zarz%C4%85d%20Stowarzyszenia":MAILTO:siedemaniolow@gmail.com
END:VEVENT
END:VCALENDAR