BEGIN:VCALENDAR
VERSION:2.0
PRODID:-//Siedem Aniołów - ECPv5.15.0.1//NONSGML v1.0//EN
CALSCALE:GREGORIAN
METHOD:PUBLISH
X-WR-CALNAME:Siedem Aniołów
X-ORIGINAL-URL:https://www.siedemaniolow.pl
X-WR-CALDESC:Wydarzenia dla Siedem Aniołów
REFRESH-INTERVAL;VALUE=DURATION:PT1H
X-Robots-Tag:noindex
X-PUBLISHED-TTL:PT1H
BEGIN:VTIMEZONE
TZID:UTC
BEGIN:STANDARD
TZOFFSETFROM:+0000
TZOFFSETTO:+0000
TZNAME:UTC
DTSTART:20220101T000000
END:STANDARD
END:VTIMEZONE
BEGIN:VEVENT
DTSTART;TZID=UTC:20221209T183000
DTEND;TZID=UTC:20221211T130000
DTSTAMP:20260424T043051
CREATED:20221208T111826Z
LAST-MODIFIED:20221208T141838Z
UID:11460-1670610600-1670763600@www.siedemaniolow.pl
SUMMARY:Siedmioaniołowa Wigilia 2022
DESCRIPTION:Zapraszamy wspólnotę Siedmiu Aniołów na spotkanie wigilijne do Lipnicy k. Torunia! Można przyjechać już w piątek. Głównym celem jest to\, by się po prostu spotkać w miłym domu z kominkiem\, by pobyć ze sobą w ciepłej świątecznej atmosferze jak z reklamy ? Jeśli się wahasz – to się już nie wahaj tylko wbijaj\, nawet jeśli Cie dawno z nami nie było! Czekamy na Ciebie ? tylko daj znać\, że będziesz. Zapisy u Asi Grobelskiej. \nDojazd:\n– autem: Lipnica 8\, 87-207 Lipnica link do nawigacji\n– pociągiem: najlepiej dojechać pociągiem do Kowalewa Pomorskiego i dzwonić- ktoś przyjedzie po Was na dworzec\n– podobno idzie też PKS do Lipnicy ale trzeba by sprawdzić połączenia \nWarunki:\nW domku wczasowym\, który wynajmujemy jest duży salon z kuchnią\, 6 pokoi z łóżkami oraz 4 łazienki z prysznicami. Miejsc na łóżkach jest ok. 25\, więc kilka osób będzie spać na karimacie. W związku z tym\, kto może niech weźmie karimatę i śpiwór (np. osoby\, które jadą autem i nie muszą tego dźwigać) Ogólnie w domku jest miło\, domowo i ciepło. \nZabierz ze sobą:\n– kapcie\n– śpiwór/karimata\n– instrumenty muzyczne\n– ładny strój na wigilię\n– foremki do pierników\,\n– materiały na ozdoby świąteczne \ndla chętnych:\n– głośnik\n– lampki choinkowe lub ledowe\n– ozdoby na pierniki\n– słodycze i mandarynki\n– długopisy i nożyczki\n– świeczki\n– śpiewniki kolędowe\n– gry planszówki \nJedzenie:\ngeneralnie plan jest taki by wspólnie gotować i przygotowywać jedzenie\, aczkolwiek jeśli chcecie się pochwalić jakie ciasto potraficie upiec to śmiało zabierajcie!? gdyby wasze mamy chciałyby coś nam sprezentować to chętnie przygarniemy np. może czyjaś mama zrobiłaby nam kapustę z grzybami jako farsz na pierogi\, które będziemy lepić? \nW piątek:\n– od 18.30 można się zjeżdżać do Lipnicy\n– potem herbatki\, mandarynki\, gadanko\, planszówki\, spanko \nW sobotę:\n– rano (ale tak bez przesady) jutrznia i śniadanko\n– później świąteczne przygotowania- gotowanie jedzonka\, przygotowanie ozdób\, pieczenie i ozdabianie pierników\, przygotowanie kartek świąteczych itp + chill\n– później mały obiad + spacer dla chętnych +chill\n– później przygotowań ciąg dalszy- gotowanie\, przygotowywanie stołu\, dekorowanie itp\n– wieczorem piękna Msza Święta\n– później opłatek i uroczysta kolacja\n– później wspólne kolędowanie + jedzenie mandarynek + planszówki + chill \nW niedzielę:\n– rano (też tak bez przesady) jutrznia i świąteczne śniadanko (czyli głównie wyjadanie resztek)\n– sprzątanko\n– kaweczka + słodkości\n– wyjazd
URL:https://www.siedemaniolow.pl/spotkanie/siedmioaniolowa-wigilia-2022/
LOCATION:Domek wczasowy w Lipnicy k. Golubia-Dobrzynia\, Lipnica 8\, 87-207 Dębowa Łąka\, (kujawsko-pomorskie)
CATEGORIES:Siedem Aniołów 2023
ATTACH;FMTTYPE=image/jpeg:https://www.siedemaniolow.pl/wp-content/uploads/2022/12/315871629_10227740982462536_7901032019678030641_n.jpg
ORGANIZER;CN="Siedem%20Anio%C5%82%C3%B3w%20Toru%C5%84":MAILTO:siedemaniolow@gmail.com
END:VEVENT
END:VCALENDAR